Package: aCGH Version: 1.82.0 Command: rm -rf aCGH.buildbin-libdir && mkdir aCGH.buildbin-libdir && /Users/biocbuild/BBS/utils/build-universal.sh aCGH_1.82.0.tar.gz /Library/Frameworks/R.framework/Resources/bin/R aCGH.buildbin-libdir StartedAt: 2024-06-11 10:02:43 -0400 (Tue, 11 Jun 2024) EndedAt: 2024-06-11 10:03:09 -0400 (Tue, 11 Jun 2024) EllapsedTime: 25.4 seconds RetCode: 0 Status: OK PackageFile: aCGH_1.82.0.tgz PackageFileSize: 2.493 MiB