Package: aCGH Version: 1.82.0 Command: /Library/Frameworks/R.framework/Resources/bin/R CMD INSTALL aCGH StartedAt: 2024-10-16 18:05:33 -0400 (Wed, 16 Oct 2024) EndedAt: 2024-10-16 18:05:46 -0400 (Wed, 16 Oct 2024) EllapsedTime: 12.9 seconds RetCode: 0 Status: OK