Package: aCGH Version: 1.82.0 Command: /Library/Frameworks/R.framework/Resources/bin/R CMD check --install=check:aCGH.install-out.txt --library=/Library/Frameworks/R.framework/Resources/library --no-vignettes --timings aCGH_1.82.0.tar.gz StartedAt: 2024-10-17 11:45:04 -0400 (Thu, 17 Oct 2024) EndedAt: 2024-10-17 11:46:33 -0400 (Thu, 17 Oct 2024) EllapsedTime: 88.8 seconds RetCode: 0 Status: OK CheckDir: aCGH.Rcheck Warnings: 0