Package: aCGH Version: 1.82.0 Command: /Library/Frameworks/R.framework/Resources/bin/R CMD build --keep-empty-dirs --no-resave-data aCGH StartedAt: 2024-10-16 19:06:23 -0400 (Wed, 16 Oct 2024) EndedAt: 2024-10-16 19:07:00 -0400 (Wed, 16 Oct 2024) EllapsedTime: 37.9 seconds RetCode: 0 Status: OK PackageFile: aCGH_1.82.0.tar.gz PackageFileSize: 2.218 MiB