Package: aCGH Version: 1.82.0 Command: rm -rf aCGH.buildbin-libdir && mkdir aCGH.buildbin-libdir && /Users/biocbuild/BBS/utils/build-universal.sh aCGH_1.82.0.tar.gz /Library/Frameworks/R.framework/Resources/bin/R aCGH.buildbin-libdir StartedAt: 2024-10-18 17:11:17 -0400 (Fri, 18 Oct 2024) EndedAt: 2024-10-18 17:11:39 -0400 (Fri, 18 Oct 2024) EllapsedTime: 21.6 seconds RetCode: 0 Status: OK PackageFile: aCGH_1.82.0.tgz PackageFileSize: 2.493 MiB