Package: a4Reporting Version: 1.52.0 Command: E:\biocbuild\bbs-3.19-bioc\R\bin\R.exe CMD INSTALL a4Reporting StartedAt: 2024-10-16 16:00:02 -0400 (Wed, 16 Oct 2024) EndedAt: 2024-10-16 16:00:33 -0400 (Wed, 16 Oct 2024) EllapsedTime: 31.2 seconds RetCode: 0 Status: OK