Package: a4Reporting Version: 1.52.0 Command: chmod a+r a4Reporting -R && E:\biocbuild\bbs-3.19-bioc\R\bin\R.exe CMD build --keep-empty-dirs --no-resave-data a4Reporting StartedAt: 2024-10-16 17:29:25 -0400 (Wed, 16 Oct 2024) EndedAt: 2024-10-16 17:29:50 -0400 (Wed, 16 Oct 2024) EllapsedTime: 25.2 seconds RetCode: 0 Status: OK PackageFile: a4Reporting_1.52.0.tar.gz PackageFileSize: 292.8 KiB