Package: a4Reporting Version: 1.52.0 Command: /Library/Frameworks/R.framework/Resources/bin/R CMD INSTALL a4Reporting StartedAt: 2024-10-16 15:07:12 -0400 (Wed, 16 Oct 2024) EndedAt: 2024-10-16 15:07:33 -0400 (Wed, 16 Oct 2024) EllapsedTime: 21.2 seconds RetCode: 0 Status: OK