Package: a4Reporting Version: 1.52.0 Command: /Library/Frameworks/R.framework/Resources/bin/R CMD INSTALL a4Reporting StartedAt: 2024-06-09 15:04:02 -0400 (Sun, 09 Jun 2024) EndedAt: 2024-06-09 15:04:21 -0400 (Sun, 09 Jun 2024) EllapsedTime: 18.7 seconds RetCode: 0 Status: OK