Package: a4Reporting Version: 1.52.0 Command: /Library/Frameworks/R.framework/Resources/bin/R CMD build --keep-empty-dirs --no-resave-data a4Reporting StartedAt: 2024-06-09 15:48:22 -0400 (Sun, 09 Jun 2024) EndedAt: 2024-06-09 15:48:30 -0400 (Sun, 09 Jun 2024) EllapsedTime: 8.0 seconds RetCode: 0 Status: OK PackageFile: a4Reporting_1.52.0.tar.gz PackageFileSize: 292.7 KiB