Package: a4Reporting Version: 1.52.0 Command: /home/biocbuild/R/R-beta-2024-04-15_r86425/bin/R CMD build --keep-empty-dirs --no-resave-data a4Reporting StartedAt: 2024-05-08 22:13:54 -0000 (Wed, 08 May 2024) EndedAt: 2024-05-08 22:14:00 -0000 (Wed, 08 May 2024) EllapsedTime: 6.0 seconds RetCode: 0 Status: OK PackageFile: a4Reporting_1.52.0.tar.gz PackageFileSize: 357.8 KiB