Package: a4Preproc Version: 1.52.0 Command: rm -rf a4Preproc.buildbin-libdir && mkdir a4Preproc.buildbin-libdir && /Users/biocbuild/BBS/utils/build-universal.sh a4Preproc_1.52.0.tar.gz /Library/Frameworks/R.framework/Resources/bin/R a4Preproc.buildbin-libdir StartedAt: 2024-10-17 15:35:49 -0400 (Thu, 17 Oct 2024) EndedAt: 2024-10-17 15:35:58 -0400 (Thu, 17 Oct 2024) EllapsedTime: 8.9 seconds RetCode: 0 Status: OK PackageFile: a4Preproc_1.52.0.tgz PackageFileSize: 296.8 KiB