Package: a4Core Version: 1.52.0 Command: E:\biocbuild\bbs-3.19-bioc\R\bin\R.exe CMD INSTALL a4Core StartedAt: 2024-10-16 17:00:21 -0400 (Wed, 16 Oct 2024) EndedAt: 2024-10-16 17:00:30 -0400 (Wed, 16 Oct 2024) EllapsedTime: 9.3 seconds RetCode: 0 Status: OK