Package: a4Core Version: 1.52.0 Command: rm -rf a4Core.buildbin-libdir && mkdir a4Core.buildbin-libdir && F:\biocbuild\bbs-3.19-bioc\R\bin\R.exe CMD INSTALL --build --library=a4Core.buildbin-libdir a4Core_1.52.0.tar.gz StartedAt: 2024-06-27 07:47:59 -0400 (Thu, 27 Jun 2024) EndedAt: 2024-06-27 07:48:11 -0400 (Thu, 27 Jun 2024) EllapsedTime: 12.5 seconds RetCode: 0 Status: OK PackageFile: a4Core_1.52.0.zip PackageFileSize: 313.7 KiB