Package: a4Classif Version: 1.52.0 Command: chmod a+r a4Classif -R && E:\biocbuild\bbs-3.19-bioc\R\bin\R.exe CMD build --keep-empty-dirs --no-resave-data a4Classif StartedAt: 2024-10-16 17:29:25 -0400 (Wed, 16 Oct 2024) EndedAt: 2024-10-16 17:30:04 -0400 (Wed, 16 Oct 2024) EllapsedTime: 39.5 seconds RetCode: 0 Status: OK PackageFile: a4Classif_1.52.0.tar.gz PackageFileSize: 370.4 KiB