Package: a4Classif Version: 1.52.0 Command: rm -rf a4Classif.buildbin-libdir && mkdir a4Classif.buildbin-libdir && E:\biocbuild\bbs-3.19-bioc\R\bin\R.exe CMD INSTALL --build --library=a4Classif.buildbin-libdir a4Classif_1.52.0.tar.gz StartedAt: 2024-10-17 07:17:57 -0400 (Thu, 17 Oct 2024) EndedAt: 2024-10-17 07:18:16 -0400 (Thu, 17 Oct 2024) EllapsedTime: 18.6 seconds RetCode: 0 Status: OK PackageFile: a4Classif_1.52.0.zip PackageFileSize: 405.1 KiB