Package: a4Classif Version: 1.52.0 Command: /home/biocbuild/bbs-3.19-bioc/R/bin/R CMD INSTALL a4Classif StartedAt: 2024-10-16 16:30:23 -0400 (Wed, 16 Oct 2024) EndedAt: 2024-10-16 16:30:29 -0400 (Wed, 16 Oct 2024) EllapsedTime: 6.1 seconds RetCode: 0 Status: OK