Package: a4Classif Version: 1.52.0 Command: /home/biocbuild/bbs-3.19-bioc/R/bin/R CMD build --keep-empty-dirs --no-resave-data a4Classif StartedAt: 2024-10-16 16:51:39 -0400 (Wed, 16 Oct 2024) EndedAt: 2024-10-16 16:52:07 -0400 (Wed, 16 Oct 2024) EllapsedTime: 27.1 seconds RetCode: 0 Status: OK PackageFile: a4Classif_1.52.0.tar.gz PackageFileSize: 571.4 KiB