Package: a4Classif Version: 1.52.0 Command: /Library/Frameworks/R.framework/Resources/bin/R CMD build --keep-empty-dirs --no-resave-data a4Classif StartedAt: 2024-10-16 16:58:27 -0400 (Wed, 16 Oct 2024) EndedAt: 2024-10-16 16:59:19 -0400 (Wed, 16 Oct 2024) EllapsedTime: 52.2 seconds RetCode: 0 Status: OK PackageFile: a4Classif_1.52.0.tar.gz PackageFileSize: 656.7 KiB