Package: a4Classif Version: 1.52.0 Command: /Library/Frameworks/R.framework/Resources/bin/R CMD INSTALL a4Classif StartedAt: 2024-06-09 15:32:35 -0400 (Sun, 09 Jun 2024) EndedAt: 2024-06-09 15:32:44 -0400 (Sun, 09 Jun 2024) EllapsedTime: 9.5 seconds RetCode: 0 Status: OK