Package: a4Classif Version: 1.52.0 Command: /Library/Frameworks/R.framework/Resources/bin/R CMD INSTALL a4Classif StartedAt: 2024-06-09 16:57:05 -0400 (Sun, 09 Jun 2024) EndedAt: 2024-06-09 16:57:15 -0400 (Sun, 09 Jun 2024) EllapsedTime: 10.1 seconds RetCode: 0 Status: OK