Package: a4Base Version: 1.52.0 Command: E:\biocbuild\bbs-3.19-bioc\R\bin\R.exe CMD INSTALL a4Base StartedAt: 2024-10-16 17:03:30 -0400 (Wed, 16 Oct 2024) EndedAt: 2024-10-16 17:04:02 -0400 (Wed, 16 Oct 2024) EllapsedTime: 32.1 seconds RetCode: 0 Status: OK