Package: a4Base Version: 1.52.0 Command: /home/biocbuild/bbs-3.19-bioc/R/bin/R CMD INSTALL a4Base StartedAt: 2024-10-16 16:32:32 -0400 (Wed, 16 Oct 2024) EndedAt: 2024-10-16 16:32:53 -0400 (Wed, 16 Oct 2024) EllapsedTime: 21.0 seconds RetCode: 0 Status: OK