Package: a4Base Version: 1.52.0 Command: /home/biocbuild/bbs-3.19-bioc/R/bin/R CMD build --keep-empty-dirs --no-resave-data a4Base StartedAt: 2024-10-16 16:51:39 -0400 (Wed, 16 Oct 2024) EndedAt: 2024-10-16 16:51:40 -0400 (Wed, 16 Oct 2024) EllapsedTime: 1.0 seconds RetCode: 0 Status: OK PackageFile: a4Base_1.52.0.tar.gz PackageFileSize: 366.5 KiB