Package: a4Base Version: 1.52.0 Command: /Library/Frameworks/R.framework/Resources/bin/R CMD INSTALL a4Base StartedAt: 2024-10-16 16:25:15 -0400 (Wed, 16 Oct 2024) EndedAt: 2024-10-16 16:26:04 -0400 (Wed, 16 Oct 2024) EllapsedTime: 49.2 seconds RetCode: 0 Status: OK