Package: a4Base Version: 1.52.0 Command: rm -rf a4Base.buildbin-libdir && mkdir a4Base.buildbin-libdir && /Users/biocbuild/BBS/utils/build-universal.sh a4Base_1.52.0.tar.gz /Library/Frameworks/R.framework/Resources/bin/R a4Base.buildbin-libdir StartedAt: 2024-10-17 15:35:49 -0400 (Thu, 17 Oct 2024) EndedAt: 2024-10-17 15:36:45 -0400 (Thu, 17 Oct 2024) EllapsedTime: 56.1 seconds RetCode: 0 Status: OK PackageFile: a4Base_1.52.0.tgz PackageFileSize: 568.3 KiB