Package: a4Base Version: 1.52.0 Command: /Library/Frameworks/R.framework/Resources/bin/R CMD check --install=check:a4Base.install-out.txt --library=/Library/Frameworks/R.framework/Resources/library --no-vignettes --timings a4Base_1.52.0.tar.gz StartedAt: 2024-10-17 11:43:20 -0400 (Thu, 17 Oct 2024) EndedAt: 2024-10-17 11:47:17 -0400 (Thu, 17 Oct 2024) EllapsedTime: 237.4 seconds RetCode: 0 Status: OK CheckDir: a4Base.Rcheck Warnings: 0