Package: ZygosityPredictor Version: 1.4.0 Command: /Library/Frameworks/R.framework/Resources/bin/R CMD check --install=check:ZygosityPredictor.install-out.txt --library=/Library/Frameworks/R.framework/Resources/library --no-vignettes --timings ZygosityPredictor_1.4.0.tar.gz StartedAt: 2024-10-17 15:12:33 -0400 (Thu, 17 Oct 2024) EndedAt: 2024-10-17 15:19:20 -0400 (Thu, 17 Oct 2024) EllapsedTime: 406.9 seconds RetCode: 0 Status: OK CheckDir: ZygosityPredictor.Rcheck Warnings: 0