Package: ZygosityPredictor Version: 1.4.0 Command: /Library/Frameworks/R.framework/Resources/bin/R CMD build --keep-empty-dirs --no-resave-data ZygosityPredictor StartedAt: 2024-10-17 00:21:41 -0400 (Thu, 17 Oct 2024) EndedAt: 2024-10-17 00:23:50 -0400 (Thu, 17 Oct 2024) EllapsedTime: 129.4 seconds RetCode: 0 Status: OK PackageFile: ZygosityPredictor_1.4.0.tar.gz PackageFileSize: 822.8 KiB