Package: YAPSA Version: 1.30.0 Command: rm -rf YAPSA.buildbin-libdir && mkdir YAPSA.buildbin-libdir && /Users/biocbuild/BBS/utils/build-universal.sh YAPSA_1.30.0.tar.gz /Library/Frameworks/R.framework/Resources/bin/R YAPSA.buildbin-libdir StartedAt: 2024-06-11 13:44:50 -0400 (Tue, 11 Jun 2024) EndedAt: 2024-06-11 13:46:31 -0400 (Tue, 11 Jun 2024) EllapsedTime: 101.7 seconds RetCode: 0 Status: OK PackageFile: YAPSA_1.30.0.tgz PackageFileSize: 4.412 MiB