Package: YAPSA Version: 1.30.0 Command: /Library/Frameworks/R.framework/Resources/bin/R CMD build --keep-empty-dirs --no-resave-data YAPSA StartedAt: 2024-10-17 11:36:34 -0400 (Thu, 17 Oct 2024) EndedAt: 2024-10-17 11:40:49 -0400 (Thu, 17 Oct 2024) EllapsedTime: 254.2 seconds RetCode: 0 Status: OK PackageFile: YAPSA_1.30.0.tar.gz PackageFileSize: 4.018 MiB