Package: Xeva Version: 1.20.0 Command: /Library/Frameworks/R.framework/Resources/bin/R CMD check --install=check:Xeva.install-out.txt --library=/Library/Frameworks/R.framework/Resources/library --no-vignettes --timings Xeva_1.20.0.tar.gz StartedAt: 2024-05-27 01:05:53 -0400 (Mon, 27 May 2024) EndedAt: 2024-05-27 01:10:31 -0400 (Mon, 27 May 2024) EllapsedTime: 277.4 seconds RetCode: 0 Status: OK CheckDir: Xeva.Rcheck Warnings: 0