Package: Xeva Version: 1.20.0 Command: /Library/Frameworks/R.framework/Resources/bin/R CMD build --keep-empty-dirs --no-resave-data Xeva StartedAt: 2024-10-17 11:34:29 -0400 (Thu, 17 Oct 2024) EndedAt: 2024-10-17 11:35:53 -0400 (Thu, 17 Oct 2024) EllapsedTime: 83.6 seconds RetCode: 0 Status: OK PackageFile: Xeva_1.20.0.tar.gz PackageFileSize: 1.571 MiB