Package: Xeva Version: 1.20.0 Command: rm -rf Xeva.buildbin-libdir && mkdir Xeva.buildbin-libdir && /Users/biocbuild/BBS/utils/build-universal.sh Xeva_1.20.0.tar.gz /Library/Frameworks/R.framework/Resources/bin/R Xeva.buildbin-libdir StartedAt: 2024-10-15 20:50:26 -0400 (Tue, 15 Oct 2024) EndedAt: 2024-10-15 20:51:20 -0400 (Tue, 15 Oct 2024) EllapsedTime: 54.1 seconds RetCode: 0 Status: OK PackageFile: Xeva_1.20.0.tgz PackageFileSize: 1.441 MiB