Package: Xeva Version: 1.20.0 Maintainer: Benjamin Haibe-Kains MaintainerEmail: benjamin.haibe.kains at utoronto.ca git_url: https://git.bioconductor.org/packages/Xeva git_branch: RELEASE_3_19 git_last_commit: c3df1cc git_last_commit_date: 2024-04-30 11:12:48 -0400 (Tue, 30 Apr 2024)