Package: XVector Version: 0.44.0 Command: rm -rf XVector.buildbin-libdir && mkdir XVector.buildbin-libdir && /Users/biocbuild/BBS/utils/build-universal.sh XVector_0.44.0.tar.gz /Library/Frameworks/R.framework/Resources/bin/R XVector.buildbin-libdir StartedAt: 2024-10-17 17:27:36 -0400 (Thu, 17 Oct 2024) EndedAt: 2024-10-17 17:28:18 -0400 (Thu, 17 Oct 2024) EllapsedTime: 42.0 seconds RetCode: 0 Status: OK PackageFile: XVector_0.44.0.tgz PackageFileSize: 621.4 KiB