Package: XVector Version: 0.44.0 Command: /home/biocbuild/R/R-beta-2024-04-15_r86425/bin/R CMD check --install=check:XVector.install-out.txt --library=/home/biocbuild/R/R-beta-2024-04-15_r86425/site-library --no-vignettes --timings XVector_0.44.0.tar.gz StartedAt: 2024-05-08 13:10:30 -0000 (Wed, 08 May 2024) EndedAt: 2024-05-08 13:11:50 -0000 (Wed, 08 May 2024) EllapsedTime: 80.1 seconds RetCode: 0 Status: WARNINGS CheckDir: XVector.Rcheck Warnings: 2