Package: XVector Version: 0.44.0 Command: /home/biocbuild/R/R-beta-2024-04-15_r86425/bin/R CMD build --keep-empty-dirs --no-resave-data XVector StartedAt: 2024-05-09 04:24:26 -0000 (Thu, 09 May 2024) EndedAt: 2024-05-09 04:24:27 -0000 (Thu, 09 May 2024) EllapsedTime: 1.0 seconds RetCode: 0 Status: OK PackageFile: XVector_0.44.0.tar.gz PackageFileSize: 66.25 KiB