Package: XVector Version: 0.44.0 Command: rm -rf XVector.buildbin-libdir && mkdir XVector.buildbin-libdir && /Users/biocbuild/BBS/utils/build-universal.sh XVector_0.44.0.tar.gz /Library/Frameworks/R.framework/Resources/bin/R XVector.buildbin-libdir StartedAt: 2024-06-11 13:44:35 -0400 (Tue, 11 Jun 2024) EndedAt: 2024-06-11 13:45:01 -0400 (Tue, 11 Jun 2024) EllapsedTime: 26.2 seconds RetCode: 0 Status: OK PackageFile: XVector_0.44.0.tgz PackageFileSize: 624.3 KiB