Package: XVector Version: 0.44.0 Command: rm -rf XVector.buildbin-libdir && mkdir XVector.buildbin-libdir && /Users/biocbuild/BBS/utils/build-universal.sh XVector_0.44.0.tar.gz /Library/Frameworks/R.framework/Resources/bin/R XVector.buildbin-libdir StartedAt: 2024-10-15 20:50:42 -0400 (Tue, 15 Oct 2024) EndedAt: 2024-10-15 20:51:06 -0400 (Tue, 15 Oct 2024) EllapsedTime: 24.8 seconds RetCode: 0 Status: OK PackageFile: XVector_0.44.0.tgz PackageFileSize: 618.4 KiB