Package: XNAString Version: 1.12.0 Command: /home/biocbuild/bbs-3.19-bioc/R/bin/R CMD check --install=check:XNAString.install-out.txt --library=/home/biocbuild/bbs-3.19-bioc/R/site-library --timings XNAString_1.12.0.tar.gz StartedAt: 2024-10-17 06:23:28 -0400 (Thu, 17 Oct 2024) EndedAt: 2024-10-17 06:29:01 -0400 (Thu, 17 Oct 2024) EllapsedTime: 333.2 seconds RetCode: 0 Status: WARNINGS CheckDir: XNAString.Rcheck Warnings: 1