Package: XNAString Version: 1.12.0 Command: /home/biocbuild/bbs-3.19-bioc/R/bin/R CMD build --keep-empty-dirs --no-resave-data XNAString StartedAt: 2024-10-16 21:23:05 -0400 (Wed, 16 Oct 2024) EndedAt: 2024-10-16 21:24:58 -0400 (Wed, 16 Oct 2024) EllapsedTime: 112.9 seconds RetCode: 0 Status: OK PackageFile: XNAString_1.12.0.tar.gz PackageFileSize: 1.63 MiB