Package: XNAString Version: 1.12.0 Command: rm -rf XNAString.buildbin-libdir && mkdir XNAString.buildbin-libdir && /Users/biocbuild/BBS/utils/build-universal.sh XNAString_1.12.0.tar.gz /Library/Frameworks/R.framework/Resources/bin/R XNAString.buildbin-libdir StartedAt: 2024-10-17 17:27:33 -0400 (Thu, 17 Oct 2024) EndedAt: 2024-10-17 17:30:47 -0400 (Thu, 17 Oct 2024) EllapsedTime: 194.9 seconds RetCode: 0 Status: OK PackageFile: XNAString_1.12.0.tgz PackageFileSize: 1.707 MiB