Package: XNAString Version: 1.12.0 Command: /home/biocbuild/R/R-beta-2024-04-15_r86425/bin/R CMD build --keep-empty-dirs --no-resave-data XNAString StartedAt: 2024-05-09 04:24:26 -0000 (Thu, 09 May 2024) EndedAt: 2024-05-09 04:27:18 -0000 (Thu, 09 May 2024) EllapsedTime: 172.7 seconds RetCode: 0 Status: OK PackageFile: XNAString_1.12.0.tar.gz PackageFileSize: 1.691 MiB