Package: XINA Version: 1.22.0 Command: F:\biocbuild\bbs-3.19-bioc\R\bin\R.exe CMD check --no-multiarch --install=check:XINA.install-out.txt --library=F:\biocbuild\bbs-3.19-bioc\R\library --no-vignettes --timings XINA_1.22.0.tar.gz StartedAt: 2024-06-27 07:24:28 -0400 (Thu, 27 Jun 2024) EndedAt: 2024-06-27 07:27:11 -0400 (Thu, 27 Jun 2024) EllapsedTime: 162.8 seconds RetCode: 0 Status: OK CheckDir: XINA.Rcheck Warnings: 0