Package: XINA Version: 1.22.0 Command: chmod a+r XINA -R && F:\biocbuild\bbs-3.19-bioc\R\bin\R.exe CMD build --keep-empty-dirs --no-resave-data XINA StartedAt: 2024-06-26 22:36:48 -0400 (Wed, 26 Jun 2024) EndedAt: 2024-06-26 22:37:44 -0400 (Wed, 26 Jun 2024) EllapsedTime: 56.4 seconds RetCode: 0 Status: OK PackageFile: XINA_1.22.0.tar.gz PackageFileSize: 1.191 MiB