Package: XINA Version: 1.22.0 Command: /home/biocbuild/R/R-beta-2024-04-15_r86425/bin/R CMD build --keep-empty-dirs --no-resave-data XINA StartedAt: 2024-05-09 04:24:04 -0000 (Thu, 09 May 2024) EndedAt: 2024-05-09 04:24:55 -0000 (Thu, 09 May 2024) EllapsedTime: 51.1 seconds RetCode: 0 Status: OK PackageFile: XINA_1.22.0.tar.gz PackageFileSize: 1.393 MiB