Package: XDE Version: 2.50.0 Command: rm -rf XDE.buildbin-libdir && mkdir XDE.buildbin-libdir && /Users/biocbuild/BBS/utils/build-universal.sh XDE_2.50.0.tar.gz /Library/Frameworks/R.framework/Resources/bin/R XDE.buildbin-libdir StartedAt: 2024-06-10 00:45:44 -0400 (Mon, 10 Jun 2024) EndedAt: 2024-06-10 00:46:42 -0400 (Mon, 10 Jun 2024) EllapsedTime: 57.4 seconds RetCode: 0 Status: OK PackageFile: XDE_2.50.0.tgz PackageFileSize: 2.245 MiB