Package: XDE Version: 2.50.0 Command: /home/biocbuild/R/R-beta-2024-04-15_r86425/bin/R CMD build --keep-empty-dirs --no-resave-data XDE StartedAt: 2024-05-09 04:23:39 -0000 (Thu, 09 May 2024) EndedAt: 2024-05-09 04:25:13 -0000 (Thu, 09 May 2024) EllapsedTime: 94.1 seconds RetCode: 0 Status: OK PackageFile: XDE_2.50.0.tar.gz PackageFileSize: 1.299 MiB