Package: Wrench Version: 1.22.0 Command: /home/biocbuild/R/R-beta-2024-04-15_r86425/bin/R CMD check --install=check:Wrench.install-out.txt --library=/home/biocbuild/R/R-beta-2024-04-15_r86425/site-library --no-vignettes --timings Wrench_1.22.0.tar.gz StartedAt: 2024-05-08 13:09:12 -0000 (Wed, 08 May 2024) EndedAt: 2024-05-08 13:10:07 -0000 (Wed, 08 May 2024) EllapsedTime: 55.1 seconds RetCode: 0 Status: OK CheckDir: Wrench.Rcheck Warnings: 0